BEGIN:VCALENDAR
VERSION:2.0
PRODID:-//ChamberMaster//Event Calendar 2.0//EN
METHOD:PUBLISH
X-PUBLISHED-TTL:P3D
REFRESH-INTERVAL:P3D
CALSCALE:GREGORIAN
BEGIN:VEVENT
DTSTART:20130315T150000Z
DTEND:20130315T170000Z
X-MICROSOFT-CDO-ALLDAYEVENT:FALSE
SUMMARY:Annual Soup Fundraiser
DESCRIPTION:
X-ALT-DESC;FMTTYPE=text/html:
LOCATION:Robert Moyer room
UID:e.1583.26
SEQUENCE:3
DTSTAMP:20260422T085131Z
URL:https://business.wccchamber.com/events/details/annual-soup-fundraiser-03-15-2013-26
END:VEVENT

END:VCALENDAR
