BEGIN:VCALENDAR
VERSION:2.0
PRODID:-//ChamberMaster//Event Calendar 2.0//EN
METHOD:PUBLISH
X-PUBLISHED-TTL:P3D
REFRESH-INTERVAL:P3D
CALSCALE:GREGORIAN
BEGIN:VEVENT
DTSTART:20220312T150000Z
DTEND:20220312T220000Z
X-MICROSOFT-CDO-ALLDAYEVENT:FALSE
SUMMARY:Backyard Bird Identification
DESCRIPTION:Visit the Nature Center any time between 10 to 5 to learn about birds in your backyard.  Identification of sparrows can be tricky for beginners\, but we have tricks.  Learn what you need to have to get more species to visit and how you can help keep them safe in your yard.  Learn how you\, as a citizen scientist\, can help study the birds of the world from home.
X-ALT-DESC;FMTTYPE=text/html:Visit the Nature Center any time between 10 to 5 to learn about birds in your backyard.&nbsp\; Identification of sparrows can be tricky for beginners\, but we have tricks.&nbsp\; Learn what you need to have to get more species to visit and how you can help keep them safe in your yard.&nbsp\; Learn how you\, as a citizen scientist\, can help study the birds of the world from home.
LOCATION:Cowan Lake State Park 1750 Osborn Rd. Wilmington\, OH 45177
UID:e.1583.11716
SEQUENCE:3
DTSTAMP:20260421T142453Z
URL:https://business.wccchamber.com/events/details/backyard-bird-identification-11716
END:VEVENT

END:VCALENDAR
