BEGIN:VCALENDAR
VERSION:2.0
PRODID:-//ChamberMaster//Event Calendar 2.0//EN
METHOD:PUBLISH
X-PUBLISHED-TTL:P3D
REFRESH-INTERVAL:P3D
CALSCALE:GREGORIAN
BEGIN:VEVENT
DTSTART:20220226T150000Z
DTEND:20220226T230000Z
X-MICROSOFT-CDO-ALLDAYEVENT:FALSE
SUMMARY:Bald Eagle Day
DESCRIPTION:Visit the Nature Center to learn about Wilson and Lotus\, Cowan's eagles!
X-ALT-DESC;FMTTYPE=text/html:Visit the Nature Center to learn about Wilson and Lotus\, Cowan&#39\;s eagles!
LOCATION:1750 Osborn Rd. Wilmington\, OH 45177
UID:e.1583.11561
SEQUENCE:3
DTSTAMP:20260421T124411Z
URL:https://business.wccchamber.com/events/details/bald-eagle-day-11561
END:VEVENT

END:VCALENDAR
