BEGIN:VCALENDAR
VERSION:2.0
PRODID:-//ChamberMaster//Event Calendar 2.0//EN
METHOD:PUBLISH
X-PUBLISHED-TTL:P3D
REFRESH-INTERVAL:P3D
CALSCALE:GREGORIAN
BEGIN:VEVENT
DTSTART:20220122T000000Z
DTEND:20220213T013000Z
X-MICROSOFT-CDO-ALLDAYEVENT:FALSE
SUMMARY:Beginner Ballroom Lessons and Social Dance
DESCRIPTION:Join WPAS and The Murphy Theatre for 4 weeks of AMAZING Ballroom Lessons! \n\n			 \n\n			Your ticket includes:\n\n			4 hour and a half lessons at WPAS\n\n			1 Night of dancing\, wine\, and snacks at the Murphy Theatre\n\n			Lessons: January 21st & 28th February 4th & 11th\n\n			at WPAS 7:00 pm-8:30 pm\n\n			\n\n			Social Dance: Saturday February 12th 7:00 pm-10:00 pm\n\n			at the Murphy Theatre\n\n			\n\n			$175 for Duos. \n\n			$100 for Singles\n\n			$20 Drop In Rate per person (cash or check only for drop ins)\n			\n			\n			\n\n			 \n			\n		\n	\n\n\n\n\n\nCLICK HERE FOR TICKETS
X-ALT-DESC;FMTTYPE=text/html:<div>\n<div>\n<div>\n<table>\n	<tbody>\n		<tr>\n			<td>\n			<div><strong>Join WPAS and The Murphy Theatre for 4 weeks of AMAZING Ballroom Lessons!&nbsp\;</strong><br />\n			&#8203\;<br />\n			Your ticket includes:<br />\n			4 hour and a half lessons at WPAS<br />\n			1 Night of dancing\, wine\, and snacks at the Murphy Theatre<br />\n			Lessons: January 21st &amp\; 28th February 4th &amp\; 11th<br />\n			at WPAS 7:00 pm-8:30 pm<br />\n			<br />\n			Social Dance: Saturday February 12th 7:00 pm-10:00 pm<br />\n			at the Murphy Theatre<br />\n			<br />\n			$175 for Duos.&nbsp\;<br />\n			$100 for Singles<br />\n			$20 Drop In Rate per person (cash or check only for drop ins)</div>\n			</td>\n			<td>\n			<div><br />\n			&nbsp\;</div>\n			</td>\n		</tr>\n	</tbody>\n</table>\n</div>\n</div>\n</div>\n\n<h2><a href="https://dancestudio-pro.com/tickets/wpasballroomevent" target="_blank">CLICK HERE FOR TICKETS</a></h2>\n
LOCATION:Wilmington Performing Arts Studio\, 40 N. South Street Wilmington\, Ohio 45177
UID:e.1583.11566
SEQUENCE:3
DTSTAMP:20260421T112311Z
URL:https://business.wccchamber.com/events/details/beginner-ballroom-lessons-and-social-dance-11566
END:VEVENT

END:VCALENDAR
