BEGIN:VCALENDAR
VERSION:2.0
PRODID:-//ChamberMaster//Event Calendar 2.0//EN
METHOD:PUBLISH
X-PUBLISHED-TTL:P3D
REFRESH-INTERVAL:P3D
CALSCALE:GREGORIAN
BEGIN:VEVENT
DTSTART;VALUE=DATE:20211124
DTEND;VALUE=DATE:20220102
TRANSP:TRANSPARENT
X-MICROSOFT-CDO-ALLDAYEVENT:TRUE
SUMMARY:BLACK FRIDAY SPECIAL: Kirkwood Adventure Park
DESCRIPTION:BLACK FRIDAY - JANUARY 1ST SEASON PASS SPECIAL!\n\nSeason Passes for Kirkwood Adventure Park ON SALE NOW: Individual pass - $22 each\,  Family pass $88 each (includes 2 adults and children under 18 in same household). Prices will go up January 2nd!
X-ALT-DESC;FMTTYPE=text/html:<p><span data-sheets-userformat="{&quot\;2&quot\;:513\,&quot\;3&quot\;:{&quot\;1&quot\;:0}\,&quot\;12&quot\;:0}" data-sheets-value="{&quot\;1&quot\;:2\,&quot\;2&quot\;:&quot\;Season Passes for Kirkwood Adventure Park.  Individual pass - $22 each Family pass $88 each. Includes 2 adults and children under 18 in same household.  Prices will go up Jan 2!  &quot\;}" style="color: rgb(0\, 0\, 0)\; font-size: 10pt\; font-family: Arial\;">BLACK FRIDAY - JANUARY 1ST SEASON PASS SPECIAL!</span></p>\n\n<p><span data-sheets-userformat="{&quot\;2&quot\;:513\,&quot\;3&quot\;:{&quot\;1&quot\;:0}\,&quot\;12&quot\;:0}" data-sheets-value="{&quot\;1&quot\;:2\,&quot\;2&quot\;:&quot\;Season Passes for Kirkwood Adventure Park.  Individual pass - $22 each Family pass $88 each. Includes 2 adults and children under 18 in same household.  Prices will go up Jan 2!  &quot\;}" style="color: rgb(0\, 0\, 0)\; font-size: 10pt\; font-family: Arial\;">Season Passes for Kirkwood Adventure Park ON SALE NOW:&nbsp\;Individual pass - $22 each\,&nbsp\; Family pass $88 each (includes 2 adults and children under 18 in same household). Prices will go up January 2nd!</span></p>\n
LOCATION:Kirkwood Adventure Park\, 5719 W. State Rt 73 Wilmington OH 45177
UID:e.1583.11521
SEQUENCE:3
DTSTAMP:20260421T112432Z
URL:https://business.wccchamber.com/events/details/black-friday-special-kirkwood-adventure-park-11521
END:VEVENT

END:VCALENDAR
