BEGIN:VCALENDAR
VERSION:2.0
PRODID:-//ChamberMaster//Event Calendar 2.0//EN
METHOD:PUBLISH
X-PUBLISHED-TTL:P3D
REFRESH-INTERVAL:P3D
CALSCALE:GREGORIAN
BEGIN:VEVENT
DTSTART:20220317T150000Z
DTEND:20220317T160000Z
X-MICROSOFT-CDO-ALLDAYEVENT:FALSE
SUMMARY:Business Growth - Search Ranking\, Google Ads & Online Reviews
DESCRIPTION:Looking to grow your business using online marketing? Learn how with help from local experts in Search Engine Optimization (SEO)\, Google Ads\, and online reviews. We will review the 3 sections of the Search Engine Results Page (SERP) and explain how to rank higher on each one.\n\n\n\n1. Paid Search\, topics include:\n\n\n\n- Who should use Google Ads (and for what)?\n\n- Types of Google Ads (Pay-Per-Click vs. Local Service Ads)\n\n\n\n2. Local Search\, topics include:\n\n\n\n- Rank higher on Google My Business\n\n- Get more leads from Google My Business\n\n- Get reviews on Google My Business\n\n- Optimize your Google My Business listing\n\n\n\n3. Organic Search\, topics include:\n\n\n\n- Basics (metadata\, speed\, security\, etc)\n\n- Website content and blogging\n\n- Authoritative links back to website\n\n- Track conversions in Google Analytics\n\n\n\nWorkshop leader\, Dustin Pearce\, is a digital marketing expert at Makeshark located at 822 Rombach Ave. in Wilmington (inside of Peelle Lundy & Clifton Realty). Dustin has worked with local companies to increase SEO 414% and grow online sales by over $500\,000 annually. Previously Dustin helped build national brands like Hulu\, Kroger\, Huffy Bikes\, and Orbit Gum.
X-ALT-DESC;FMTTYPE=text/html:Looking to grow your business using online marketing? Learn how with help from local experts in Search Engine Optimization (SEO)\, Google Ads\, and online reviews.&nbsp\;We will review the 3 sections of the Search Engine Results Page (SERP) and explain how to rank higher on each one.<br />\n<br />\n<strong>1. Paid Search\, topics include:</strong><br />\n<br />\n- Who should use Google Ads (and for what)?<br />\n- Types of Google Ads (Pay-Per-Click vs. Local Service Ads)<br />\n<br />\n<strong>2. Local Search\, topics include:</strong><br />\n<br />\n- Rank higher on Google My Business<br />\n- Get more leads from Google My Business<br />\n- Get reviews on Google My Business<br />\n- Optimize your Google My Business listing<br />\n<br />\n<strong>3. Organic Search\, topics include:</strong><br />\n<br />\n- Basics (metadata\, speed\, security\, etc)<br />\n- Website content and blogging<br />\n- Authoritative links back to website<br />\n- Track conversions in Google Analytics<br />\n<br />\nWorkshop leader\, Dustin Pearce\, is a digital marketing expert at Makeshark located at 822 Rombach Ave. in Wilmington (inside of Peelle Lundy &amp\; Clifton Realty). Dustin has worked with local companies to increase SEO 414% and grow online sales by over $500\,000 annually. Previously Dustin helped build national brands like Hulu\, Kroger\, Huffy Bikes\, and Orbit Gum.
LOCATION:822 Rombach Ave. Wilmington\, OH 45177 (inside of Peelle Lundy & Clifton Realty)
UID:e.1583.11719
SEQUENCE:3
DTSTAMP:20260421T143013Z
URL:https://business.wccchamber.com/events/details/business-growth-search-ranking-google-ads-online-reviews-11719
END:VEVENT

END:VCALENDAR
