BEGIN:VCALENDAR
VERSION:2.0
PRODID:-//ChamberMaster//Event Calendar 2.0//EN
METHOD:PUBLISH
X-PUBLISHED-TTL:P3D
REFRESH-INTERVAL:P3D
CALSCALE:GREGORIAN
BEGIN:VEVENT
DTSTART:20220217T224500Z
DTEND:20220218T004500Z
X-MICROSOFT-CDO-ALLDAYEVENT:FALSE
SUMMARY:Connect 4 Clinton County 1st Quarter Tournament
DESCRIPTION:We are excited to announce the kick off of the 2022 quarterly Connect 4 Clinton County tournaments!. Connect 4 Clinton County was created to help pour back into our amazing county and serve those in need. Together we can do so much more! \n \n\nThis will be a quarterly event starting Thursday\, February 17th\, 2022\, hosted at the Elks #797\, 2593 Rombach Ave\, Wilmington\, OH 45177. Registration will start at 5:45PM and the tournament will kick off at 6PM.\n \n\nThis will be a best two out of three game with winners facing off until there is just one champion left for that month. Are you ready to play the game of Connect 4 with others in your county?\n \n\nTo enter\, each business will have someone to represent them and play that evening in the tournament. Business Entry Fee is $100 and the Individual Player Entry Fee is $50\, with 100% of the money going to a non-profit each month. To register or for more information\, please visit https://bit.ly/cc4cFeb22 or contact Clinton Becker at 937-728-4133.\n \n\nThe February non-profit is the Clinton County Board of Developmental Disabilities Ohio Early Intervention Program.\n\n\n\nEarly Intervention (EI) is a statewide system that provides coordinated early intervention services to parents of eligible children under the age of three with developmental delays or disabilities. EI builds upon and provides support and resources to assist family members and caregivers to enhance children's learning and development through everyday learning opportunities. Learn more at: https://ohioearlyintervention.org/\n \n\nThank you for giving back and making a difference in Clinton County!
X-ALT-DESC;FMTTYPE=text/html:<p dir="ltr" style="line-height:1.38\;margin-top:0pt\;margin-bottom:0pt\;"><span id="docs-internal-guid-8d4ba702-7fff-d822-1bb0-4c5986edbf1b"><span style="font-size: 10.5pt\; font-family: Arial\; font-variant-numeric: normal\; font-variant-east-asian: normal\; vertical-align: baseline\; white-space: pre-wrap\;">We are excited to announce the kick off of the 2022 quarterly Connect 4 Clinton County tournaments!. Connect 4 Clinton County was created to help pour back into our amazing county and serve those in need. Together we can do so much more!&nbsp\;</span></span></p>\n&nbsp\;\n\n<p dir="ltr" style="line-height:1.38\;margin-top:0pt\;margin-bottom:0pt\;"><span id="docs-internal-guid-8d4ba702-7fff-d822-1bb0-4c5986edbf1b"><span style="font-size: 10.5pt\; font-family: Arial\; font-variant-numeric: normal\; font-variant-east-asian: normal\; vertical-align: baseline\; white-space: pre-wrap\;">This will be a quarterly event starting Thursday\, February 17th\, 2022\, hosted at the Elks #797\, 2593 Rombach Ave\, Wilmington\, OH 45177. </span><span style="font-size: 10.5pt\; font-family: Arial\; font-weight: 700\; font-variant-numeric: normal\; font-variant-east-asian: normal\; vertical-align: baseline\; white-space: pre-wrap\;">Registration will start at 5:45PM and the tournament will kick off at 6PM.</span></span></p>\n&nbsp\;\n\n<p dir="ltr" style="line-height:1.38\;margin-top:0pt\;margin-bottom:0pt\;"><span id="docs-internal-guid-8d4ba702-7fff-d822-1bb0-4c5986edbf1b"><span style="font-size: 10.5pt\; font-family: Arial\; font-variant-numeric: normal\; font-variant-east-asian: normal\; vertical-align: baseline\; white-space: pre-wrap\;">This will be a best two out of three game with winners facing off until there is just one champion left for that month. Are you ready to play the game of Connect 4 with others in your county?</span></span></p>\n&nbsp\;\n\n<p dir="ltr" style="line-height:1.38\;margin-top:0pt\;margin-bottom:0pt\;"><span id="docs-internal-guid-8d4ba702-7fff-d822-1bb0-4c5986edbf1b"><span style="font-size: 10.5pt\; font-family: Arial\; font-variant-numeric: normal\; font-variant-east-asian: normal\; vertical-align: baseline\; white-space: pre-wrap\;">To enter\, each business will have someone to represent them and play that evening in the tournament. Business Entry Fee is $100 and the Individual Player Entry Fee is $50\, with 100% of the money going to a non-profit each month. </span><span style="font-size: 10.5pt\; font-family: Arial\; font-weight: 700\; font-variant-numeric: normal\; font-variant-east-asian: normal\; vertical-align: baseline\; white-space: pre-wrap\;">To register or for more information\, please visit </span></span><strong><a href="https://bit.ly/cc4cFeb22">https://bit.ly/cc4cFeb22</a>&nbsp\;or</strong><span><span style="font-size: 10.5pt\; font-family: Arial\; font-weight: 700\; font-variant-numeric: normal\; font-variant-east-asian: normal\; vertical-align: baseline\; white-space: pre-wrap\;"><strong> </strong>contact Clinton Becker at 937-728-4133</span><span style="font-size: 10.5pt\; font-family: Arial\; font-variant-numeric: normal\; font-variant-east-asian: normal\; vertical-align: baseline\; white-space: pre-wrap\;">.</span></span></p>\n&nbsp\;\n\n<p dir="ltr" style="line-height:1.38\;margin-top:0pt\;margin-bottom:0pt\;"><span id="docs-internal-guid-8d4ba702-7fff-d822-1bb0-4c5986edbf1b"><span style="font-size: 10.5pt\; font-family: Arial\; font-variant-numeric: normal\; font-variant-east-asian: normal\; vertical-align: baseline\; white-space: pre-wrap\;">The February non-profit is the Clinton County Board of Developmental Disabilities Ohio Early Intervention Program.</span><br />\n<br />\n<span style="font-size: 10.5pt\; font-family: Arial\; font-variant-numeric: normal\; font-variant-east-asian: normal\; vertical-align: baseline\; white-space: pre-wrap\;">Early Intervention (EI) is a statewide system that provides coordinated early intervention services to parents of eligible children under the age of three with developmental delays or disabilities. EI builds upon and provides support and resources to assist family members and caregivers to enhance children&#39\;s learning and development through everyday learning opportunities. Learn more at: https://ohioearlyintervention.org/</span></span></p>\n&nbsp\;\n\n<p dir="ltr" style="line-height:1.38\;margin-top:0pt\;margin-bottom:0pt\;"><span id="docs-internal-guid-8d4ba702-7fff-d822-1bb0-4c5986edbf1b"><span style="font-size: 10.5pt\; font-family: Arial\; font-variant-numeric: normal\; font-variant-east-asian: normal\; vertical-align: baseline\; white-space: pre-wrap\;">Thank you for giving back and making a difference in Clinton County! </span></span></p>\n\n<div>&nbsp\;</div>\n
LOCATION:Elks #797\, 2593 Rombach Ave\, Wilmington\, OH 45177
UID:e.1583.11702
SEQUENCE:3
DTSTAMP:20260421T125119Z
URL:https://business.wccchamber.com/events/details/connect-4-clinton-county-1st-quarter-tournament-11702
END:VEVENT

END:VCALENDAR
