BEGIN:VCALENDAR
VERSION:2.0
PRODID:-//ChamberMaster//Event Calendar 2.0//EN
METHOD:PUBLISH
X-PUBLISHED-TTL:P3D
REFRESH-INTERVAL:P3D
CALSCALE:GREGORIAN
BEGIN:VEVENT
DTSTART:20220108T124500Z
DTEND:20220108T170000Z
X-MICROSOFT-CDO-ALLDAYEVENT:FALSE
SUMMARY:Cowan Lake Bird Count
DESCRIPTION:Pre-registration requested.  Meet at the dam on St. Rt. 730.  The group will carpool to multiple locations around the lake to count birds.  This is a citizen science project\, a report from each location will b added to eBird.  All levels of experience welcome.  Dress for the weather.   Binoculars\, cameras\, and spotting scopes are recommended but not required.  Some binoculars will be available upon request.  Email amanda.wolski@dnr.ohio.gov for information and to register.
X-ALT-DESC;FMTTYPE=text/html:Pre-registration requested.&nbsp\; Meet at the dam on St. Rt. 730.&nbsp\; The group will carpool to multiple locations around the lake to count birds.&nbsp\; This is a citizen science project\, a report from each location will b added to eBird.&nbsp\; All levels of experience welcome.&nbsp\; Dress for the weather.&nbsp\; &nbsp\;Binoculars\, cameras\, and spotting scopes are recommended but not required.&nbsp\; Some binoculars will be available upon request.&nbsp\; Email amanda.wolski@dnr.ohio.gov for information and to register.
LOCATION:1750 Osborn Rd. Wilmington\, OH 45177
UID:e.1583.11550
SEQUENCE:3
DTSTAMP:20260421T112443Z
URL:https://business.wccchamber.com/events/details/cowan-lake-bird-count-01-08-2022-11550
END:VEVENT

END:VCALENDAR
