BEGIN:VCALENDAR
VERSION:2.0
PRODID:-//ChamberMaster//Event Calendar 2.0//EN
METHOD:PUBLISH
X-PUBLISHED-TTL:P3D
REFRESH-INTERVAL:P3D
CALSCALE:GREGORIAN
BEGIN:VEVENT
DTSTART:20220122T150000Z
DTEND:20220122T190000Z
X-MICROSOFT-CDO-ALLDAYEVENT:FALSE
SUMMARY:Cowan Lake's 3rd Annual Winter Hike
DESCRIPTION:Meet at the commissary.  Guided 3-mile hikes\, interpretive 1-mile hikes\, hot food and drink and delicious desserts.  Join us to make wonderful memories with friends and family!  Co-hosted by the Friends Caring for Cowan Lake State Park.
X-ALT-DESC;FMTTYPE=text/html:Meet at the commissary.&nbsp\; Guided 3-mile hikes\, interpretive 1-mile hikes\, hot food and drink and delicious desserts.&nbsp\; Join us to make wonderful memories with friends and family!&nbsp\; Co-hosted by the Friends Caring for Cowan Lake State Park.
LOCATION:1750 Osborn Rd. Wilmington\, OH 45177
UID:e.1583.11545
SEQUENCE:3
DTSTAMP:20260421T112356Z
URL:https://business.wccchamber.com/events/details/cowan-lake-s-3rd-annual-winter-hike-11545
END:VEVENT

END:VCALENDAR
