BEGIN:VCALENDAR
VERSION:2.0
PRODID:-//ChamberMaster//Event Calendar 2.0//EN
METHOD:PUBLISH
X-PUBLISHED-TTL:P3D
REFRESH-INTERVAL:P3D
CALSCALE:GREGORIAN
BEGIN:VEVENT
DTSTART:20220205T150000Z
DTEND:20220205T230000Z
X-MICROSOFT-CDO-ALLDAYEVENT:FALSE
SUMMARY:Cowan's Hidden History
DESCRIPTION:Visit the Nature Center to learn about the Ordovician fossils\, the Adena People and more.  Each kid will pick a fossil to take home!
X-ALT-DESC;FMTTYPE=text/html:Visit the Nature Center to learn about the Ordovician fossils\, the Adena People and more.&nbsp\; Each kid will pick a fossil to take home!
LOCATION:1750 Osborn Rd. Wilmington\, OH 45177
UID:e.1583.11557
SEQUENCE:3
DTSTAMP:20260421T124538Z
URL:https://business.wccchamber.com/events/details/cowan-s-hidden-history-11557
END:VEVENT

END:VCALENDAR
