BEGIN:VCALENDAR
VERSION:2.0
PRODID:-//ChamberMaster//Event Calendar 2.0//EN
METHOD:PUBLISH
X-PUBLISHED-TTL:P3D
REFRESH-INTERVAL:P3D
CALSCALE:GREGORIAN
BEGIN:VEVENT
DTSTART:20220119T150000Z
DTEND:20220119T200000Z
X-MICROSOFT-CDO-ALLDAYEVENT:FALSE
SUMMARY:Crown Staffing Job Fair
DESCRIPTION:Crown Staffing Wilmington is hosting a Job Fair on January 19th\, 2022 from 10AM - 3PM at their downtown Wilmington office\, located at 55 East Locust Street. *Masks are REQUIRED. \n\nHIRING All SHIFTS!! PLEASE BRING: I-9 documents\, such as ID and SSC or Birth Certificate \n\nFor more information about industrial positions\, call us at 937-486-4070 \n\nNEW YEAR - NEW JOB
X-ALT-DESC;FMTTYPE=text/html:<p dir="ltr">Crown Staffing Wilmington is hosting a Job Fair on January 19th\, 2022 from 10AM - 3PM at their downtown Wilmington office\, located at 55 East Locust Street. *Masks are REQUIRED.&nbsp\;</p>\n\n<p dir="ltr">HIRING All SHIFTS!! PLEASE BRING:&nbsp\;I-9 documents\, such as ID and SSC or Birth Certificate&nbsp\;</p>\n\n<p dir="ltr">For more information about industrial positions\, call us at 937-486-4070&nbsp\;</p>\n\n<p dir="ltr"><strong>NEW YEAR - NEW JOB</strong></p>\n\n<div>&nbsp\;</div>\n
LOCATION:Crown Staffing\, 55 East Locust Street\, Wilmington\, OH 45177
UID:e.1583.11565
SEQUENCE:3
DTSTAMP:20260421T112349Z
URL:https://business.wccchamber.com/events/details/crown-staffing-job-fair-11565
END:VEVENT

END:VCALENDAR
