BEGIN:VCALENDAR
VERSION:2.0
PRODID:-//ChamberMaster//Event Calendar 2.0//EN
METHOD:PUBLISH
X-PUBLISHED-TTL:P3D
REFRESH-INTERVAL:P3D
CALSCALE:GREGORIAN
BEGIN:VEVENT
DTSTART;VALUE=DATE:20220301
DTEND;VALUE=DATE:20220418
TRANSP:TRANSPARENT
X-MICROSOFT-CDO-ALLDAYEVENT:TRUE
SUMMARY:Easter/Spring Events at the Sub Disctrict 6 Schoolhouse
DESCRIPTION:Celebrate your Easter dinner at the Old Schoolhouse . FULLY EQUIPPED KITCHEN \, HARVEST TABLE AND LARGE GATHERING PLACE. OUTSIDE PAVILION FOR FAMILY FUN.\n\nIf you are looking for a place to get a way you have found it. Sub District 6 School House is a quiet cozy place for you to get the alone time you need. With a full bed\, 1 1/2 baths\, a full kitchen\, living room\, and dining room - you can have that mini vacation you need. Priced just right for people who just need a break but don't want to travel far. Also\, a good place to stay if you are coming back to visit family and friends. You can cook dinner and sit with family and let the fun times roll!
X-ALT-DESC;FMTTYPE=text/html:<div dir="auto">Celebrate your Easter dinner at the Old Schoolhouse . FULLY EQUIPPED KITCHEN \, HARVEST TABLE AND LARGE GATHERING PLACE. OUTSIDE PAVILION FOR FAMILY FUN.</div>\n\n<p dir="auto">If you are looking for a place to get a way you have found it. Sub District 6 School House is a quiet cozy place for you to get the alone time you need. With a full bed\, 1 1/2 baths\,&nbsp\;a full kitchen\, living room\, and dining room - you can have that mini vacation you need. Priced just right for people who just need a break but don&#39\;t want to travel far. Also\, a good place to stay if you are coming back to visit family and friends. You can cook dinner and sit with family and let the fun times roll!</p>\n\n<div dir="auto">&nbsp\;</div>\n
LOCATION:1399 Brown Road\, Wilmington\, OH 45177
UID:e.1583.11725
SEQUENCE:3
DTSTAMP:20260421T160703Z
URL:https://business.wccchamber.com/events/details/easter-spring-events-at-the-sub-disctrict-6-schoolhouse-11725
END:VEVENT

END:VCALENDAR
