BEGIN:VCALENDAR
VERSION:2.0
PRODID:-//ChamberMaster//Event Calendar 2.0//EN
METHOD:PUBLISH
X-PUBLISHED-TTL:P3D
REFRESH-INTERVAL:P3D
CALSCALE:GREGORIAN
BEGIN:VEVENT
DTSTART:20230202T130000Z
DTEND:20230202T140000Z
X-MICROSOFT-CDO-ALLDAYEVENT:FALSE
SUMMARY:Economic Network Alliance at Clinton Memorial Hospital
DESCRIPTION:The upcoming Economic Network Alliance meeting on Thursday\, February 2nd\, will be held at Clinton Memorial Hospital. CEO Lance Beus will be providing an update on CMH and their Community Benefits Report. \n\n\n\nThe meeting will be held in the Cafe Conference Rooms (by the cafeteria) and parking will be by the Professional Building. CMH is located at 610 West Main Street\, Wilmington\, Ohio 45177. Refreshments will be generously provided by CMH. \n\n \n\nDATE: February 2nd\, 2023\n\nTIME: 8:00 a.m.\n\nLOCATION: Cafe Conference Rooms\, Clinton Memorial Hospital\, 610 West Main Street\, Wilmington\, OH 45177\n\n\n\nThe Economic Network Alliance is a partnership of the Wilmington-Clinton County Chamber of Commerce and the Clinton County Regional Planning Commission.
X-ALT-DESC;FMTTYPE=text/html:<div>\n<div>The upcoming Economic Network Alliance meeting on Thursday\, February 2nd\, will be held at Clinton Memorial Hospital.&nbsp\;CEO Lance Beus&nbsp\;will be providing an update on CMH and their Community Benefits Report.&nbsp\;<br />\n<br />\nThe meeting will be held in the Cafe Conference Rooms (by the cafeteria) and parking will be by the Professional Building. CMH is located at 610 West Main Street\, Wilmington\, Ohio 45177. Refreshments will be generously provided by CMH.&nbsp\;<br />\n&nbsp\;</div>\n\n<div><strong>DATE:</strong>&nbsp\;February 2nd\, 2023</div>\n</div>\n<strong>TIME:&nbsp\;</strong>8:00 a.m.<br />\n<strong>LOCATION: </strong>Cafe Conference Rooms\, Clinton Memorial Hospital\, 610 West Main Street\, Wilmington\, OH 45177<br />\n<br />\nThe Economic Network Alliance is a partnership of the Wilmington-Clinton County Chamber of Commerce and the Clinton County Regional Planning Commission.
LOCATION:Cafe Conference Rooms\, Clinton Memorial Hospital\, 610 West Main Street\, Wilmington\, OH 45177
UID:e.1583.11946
SEQUENCE:3
DTSTAMP:20260424T120448Z
URL:https://business.wccchamber.com/events/details/economic-network-alliance-at-clinton-memorial-hospital-11946
END:VEVENT

END:VCALENDAR
