BEGIN:VCALENDAR
VERSION:2.0
PRODID:-//ChamberMaster//Event Calendar 2.0//EN
METHOD:PUBLISH
X-PUBLISHED-TTL:P3D
REFRESH-INTERVAL:P3D
CALSCALE:GREGORIAN
BEGIN:VEVENT
DTSTART:20220303T130000Z
DTEND:20220303T140000Z
X-MICROSOFT-CDO-ALLDAYEVENT:FALSE
SUMMARY:Economic Network Alliance: Wilmington City Schools
DESCRIPTION:Join us for our **IN-PERSON** March 3rd Economic Network Alliance to find out about what's going on in the community\, learn about resources that can help your business get ahead\, and meet other business leaders from across Clinton County.\n\n\n\nWilmington Superintendent\, Mindy McCarty-Stewart will present an update on the financial status for the WCS district.  The presentation will include an overview of the revenue and operating costs for our schools.   She will provide us information on state and federal grants and funds\, as well as provide a summary of recent initiatives and focus for the Wilmington City Schools. The presentation will allow the opportunity to ask questions and provide feedback to the Superintendent.\n\n\n\nThe Economic Network Alliance will be returning to our in-person meetings at the Hampton Inn & Suites beginning on March 3rd!\n\n\n\nWhile we look forward to seeing everyone again\, masks are encouraged for everyone in attendance. \n\n\n\nCome early to enjoy breakfast\, generously provided by the Hampton Inn & Suites\, and be sure to bring your business cards to take full advantage of this monthly networking opportunity!\n\n\n\nDATE: March 3rd\, 2022\n\nTIME: 8:00 a.m.\n\nLOCATION: Hampton Inn & Suites\, 201 Holiday Drive\, Wilmington\, OH 45177\n\n\n\nThe Economic Network Alliance is a partnership of the Wilmington-Clinton County Chamber of Commerce and the Clinton County Regional Planning Commission.
X-ALT-DESC;FMTTYPE=text/html:<span style="color: rgb(80\, 80\, 80)\; font-family: Helvetica\; font-size: 14px\; background-color: rgb(244\, 244\, 244)\;">Join us for our&nbsp\;</span><strong style="color: rgb(80\, 80\, 80)\; font-family: Helvetica\; font-size: 14px\; background-color: rgb(244\, 244\, 244)\;">**IN-PERSON** March 3rd Economic Network Alliance</strong><span style="color: rgb(80\, 80\, 80)\; font-family: Helvetica\; font-size: 14px\; background-color: rgb(244\, 244\, 244)\;">&nbsp\;to find out about what&rsquo\;s going on in the community\, learn about resources that can help your business get ahead\, and meet other business leaders from across Clinton County.</span><br style="color: rgb(80\, 80\, 80)\; font-family: Helvetica\; font-size: 14px\; background-color: rgb(244\, 244\, 244)\;" />\n<br style="color: rgb(80\, 80\, 80)\; font-family: Helvetica\; font-size: 14px\; background-color: rgb(244\, 244\, 244)\;" />\n<strong style="color: rgb(80\, 80\, 80)\; font-family: Helvetica\; font-size: 14px\; background-color: rgb(244\, 244\, 244)\;">Wilmington Superintendent\, Mindy McCarty-Stewart</strong><span style="color: rgb(80\, 80\, 80)\; font-family: Helvetica\; font-size: 14px\; background-color: rgb(244\, 244\, 244)\;">&nbsp\;will present an update on the financial status for the WCS district.&nbsp\; The presentation will include an overview of the revenue and operating costs for our schools. &nbsp\; She will provide us information on state and federal grants and funds\, as well as provide a summary of recent initiatives and focus for&nbsp\;the Wilmington City Schools. The presentation will allow the opportunity to ask questions and provide feedback to the Superintendent.</span><br style="color: rgb(80\, 80\, 80)\; font-family: Helvetica\; font-size: 14px\; background-color: rgb(244\, 244\, 244)\;" />\n<br style="color: rgb(80\, 80\, 80)\; font-family: Helvetica\; font-size: 14px\; background-color: rgb(244\, 244\, 244)\;" />\n<em style="color: rgb(80\, 80\, 80)\; font-family: Helvetica\; font-size: 14px\; background-color: rgb(244\, 244\, 244)\;"><strong>The Economic Network Alliance will be returning to our in-person meetings at the&nbsp\;Hampton&nbsp\;Inn &amp\; Suites beginning on March 3rd</strong></em><span style="color: rgb(80\, 80\, 80)\; font-family: Helvetica\; font-size: 14px\; background-color: rgb(244\, 244\, 244)\;">!</span><br style="color: rgb(80\, 80\, 80)\; font-family: Helvetica\; font-size: 14px\; background-color: rgb(244\, 244\, 244)\;" />\n<br style="color: rgb(80\, 80\, 80)\; font-family: Helvetica\; font-size: 14px\; background-color: rgb(244\, 244\, 244)\;" />\n<span style="color: rgb(80\, 80\, 80)\; font-family: Helvetica\; font-size: 14px\; background-color: rgb(244\, 244\, 244)\;">While we look forward to seeing everyone again\,&nbsp\;</span><strong style="color: rgb(80\, 80\, 80)\; font-family: Helvetica\; font-size: 14px\; background-color: rgb(244\, 244\, 244)\;">masks are encouraged for everyone in attendance</strong><span style="color: rgb(80\, 80\, 80)\; font-family: Helvetica\; font-size: 14px\; background-color: rgb(244\, 244\, 244)\;">.&nbsp\;</span><br style="color: rgb(80\, 80\, 80)\; font-family: Helvetica\; font-size: 14px\; background-color: rgb(244\, 244\, 244)\;" />\n<br style="color: rgb(80\, 80\, 80)\; font-family: Helvetica\; font-size: 14px\; background-color: rgb(244\, 244\, 244)\;" />\n<span style="color: rgb(80\, 80\, 80)\; font-family: Helvetica\; font-size: 14px\; background-color: rgb(244\, 244\, 244)\;">Come early to enjoy breakfast\, generously provided by the&nbsp\;Hampton&nbsp\;Inn &amp\; Suites\, and be sure to bring your business cards to take full advantage of this monthly networking opportunity!</span><br style="color: rgb(80\, 80\, 80)\; font-family: Helvetica\; font-size: 14px\; background-color: rgb(244\, 244\, 244)\;" />\n<br style="color: rgb(80\, 80\, 80)\; font-family: Helvetica\; font-size: 14px\; background-color: rgb(244\, 244\, 244)\;" />\n<strong style="color: rgb(80\, 80\, 80)\; font-family: Helvetica\; font-size: 14px\; background-color: rgb(244\, 244\, 244)\;">DATE:</strong><span style="color: rgb(80\, 80\, 80)\; font-family: Helvetica\; font-size: 14px\; background-color: rgb(244\, 244\, 244)\;">&nbsp\;March 3rd\, 2022</span><br style="color: rgb(80\, 80\, 80)\; font-family: Helvetica\; font-size: 14px\; background-color: rgb(244\, 244\, 244)\;" />\n<strong style="color: rgb(80\, 80\, 80)\; font-family: Helvetica\; font-size: 14px\; background-color: rgb(244\, 244\, 244)\;">TIME:</strong><span style="color: rgb(80\, 80\, 80)\; font-family: Helvetica\; font-size: 14px\; background-color: rgb(244\, 244\, 244)\;">&nbsp\;8:00 a.m.</span><br style="color: rgb(80\, 80\, 80)\; font-family: Helvetica\; font-size: 14px\; background-color: rgb(244\, 244\, 244)\;" />\n<strong style="color: rgb(80\, 80\, 80)\; font-family: Helvetica\; font-size: 14px\; background-color: rgb(244\, 244\, 244)\;">LOCATION: Hampton Inn &amp\; Suites\, 201 Holiday Drive\, Wilmington\, OH 45177</strong><br style="color: rgb(80\, 80\, 80)\; font-family: Helvetica\; font-size: 14px\; background-color: rgb(244\, 244\, 244)\;" />\n<br style="color: rgb(80\, 80\, 80)\; font-family: Helvetica\; font-size: 14px\; background-color: rgb(244\, 244\, 244)\;" />\n<span style="color: rgb(80\, 80\, 80)\; font-family: Helvetica\; font-size: 14px\; background-color: rgb(244\, 244\, 244)\;">The Economic Network Alliance is a partnership of the Wilmington-Clinton County Chamber of Commerce and the Clinton County Regional Planning Commission.</span>
LOCATION:Hampton Inn & Suites\, 201 Holiday Drive\, Wilmington\, Ohio 45177
UID:e.1583.11714
SEQUENCE:3
DTSTAMP:20260421T160833Z
URL:https://business.wccchamber.com/events/details/economic-network-alliance-wilmington-city-schools-11714
END:VEVENT

END:VCALENDAR
