BEGIN:VCALENDAR
VERSION:2.0
PRODID:-//ChamberMaster//Event Calendar 2.0//EN
METHOD:PUBLISH
X-PUBLISHED-TTL:P3D
REFRESH-INTERVAL:P3D
CALSCALE:GREGORIAN
BEGIN:VEVENT
DTSTART:20220210T150000Z
DTEND:20220210T160000Z
X-MICROSOFT-CDO-ALLDAYEVENT:FALSE
SUMMARY:EPA Webinar: Open Burning\, Odors\, Dust\, and Asbestos in Demolition in Your Community
DESCRIPTION:The most frequently reported complaints to Ohio EPA's Division of Air Pollution Control are for open burning\, odor\, and dust. Ohio EPA also receives numerous questions about the regulation and management of asbestos during demolition. There are state regulations dealing with open burning\, dust\, and nuisance odors\, but what should you do if you or your community is having issues with these? And how should your community deal with various asbestos issues that may arise when demolition occurs\, including handle emergency demolitions.\n\n\n\nREGISTER FOR THE FREE WEBINAR HERE: https://register.gotowebinar.com/register/335211828227534606
X-ALT-DESC;FMTTYPE=text/html:The most frequently reported complaints to Ohio EPA&rsquo\;s Division of Air Pollution Control are for open burning\, odor\, and dust. Ohio EPA also receives numerous questions about the regulation and management of asbestos during demolition. There are state regulations dealing with open burning\, dust\, and nuisance odors\, but what should you do if you or your community is having issues with these? And how should your community deal with various asbestos issues that may arise when demolition occurs\, including handle emergency demolitions.<br />\n<br />\nREGISTER FOR THE FREE WEBINAR HERE:&nbsp\;https://register.gotowebinar.com/register/335211828227534606
LOCATION:
UID:e.1583.11706
SEQUENCE:3
DTSTAMP:20260421T143014Z
URL:https://business.wccchamber.com/events/details/epa-webinar-open-burning-odors-dust-and-asbestos-in-demolition-in-your-community-11706
END:VEVENT

END:VCALENDAR
