BEGIN:VCALENDAR
VERSION:2.0
PRODID:-//ChamberMaster//Event Calendar 2.0//EN
METHOD:PUBLISH
X-PUBLISHED-TTL:P3D
REFRESH-INTERVAL:P3D
CALSCALE:GREGORIAN
BEGIN:VEVENT
DTSTART:20220224T150000Z
DTEND:20220224T160000Z
X-MICROSOFT-CDO-ALLDAYEVENT:FALSE
SUMMARY:EPA Webinar: Preparing a Storm Water Pollution Prevention Plan
DESCRIPTION:Do you need to develop a SWPPP to comply with a National Pollutant Discharge Elimination System industrial storm water permit? Learn the elements of a SWPPP and mistakes to avoid.\n\n\n\nREGISTER FOR THE FREE WEBINAR HERE: https://register.gotowebinar.com/register/899033694351784205
X-ALT-DESC;FMTTYPE=text/html:<p>Do you need to develop a SWPPP to comply with a National Pollutant Discharge Elimination System industrial storm water permit? Learn the elements of a SWPPP and mistakes to avoid.</p>\n\n<p><br />\nREGISTER FOR THE FREE WEBINAR HERE:&nbsp\;https://register.gotowebinar.com/register/899033694351784205</p>\n
LOCATION:
UID:e.1583.11707
SEQUENCE:3
DTSTAMP:20260421T125845Z
URL:https://business.wccchamber.com/events/details/epa-webinar-preparing-a-storm-water-pollution-prevention-plan-11707
END:VEVENT

END:VCALENDAR
