BEGIN:VCALENDAR
VERSION:2.0
PRODID:-//ChamberMaster//Event Calendar 2.0//EN
METHOD:PUBLISH
X-PUBLISHED-TTL:P3D
REFRESH-INTERVAL:P3D
CALSCALE:GREGORIAN
BEGIN:VEVENT
DTSTART:20220203T150000Z
DTEND:20220203T210000Z
X-MICROSOFT-CDO-ALLDAYEVENT:FALSE
SUMMARY:FREE Community Hep C/HIV Clinic
DESCRIPTION:Join BrightView & Central Outreach for a FREE Community Hep C/HIV Clinic. No registration required. Just show up!\n\n\n\nFor those who have never been tested\, it is a single finger stick\, with results in 10 minutes.\n\nFor those who need a confirmation test\, it's a simple blood test.\n\n\n\nAfter a confirmation of HIV or Hep C\, treatment is completely FREE.\n\nDID YOU KNOW? The cure rate for Hep C is 98%\, and takes 6 months.\n\n\n\nIf you would like more information\, please reach out to Julie Clemons at: j.robinson@brightviewhealth.com or (937)284-0543
X-ALT-DESC;FMTTYPE=text/html:<p>Join BrightView &amp\; Central Outreach for a FREE Community Hep C/HIV Clinic.&nbsp\;No registration required. Just show up!<br />\n<br />\nFor those who have never been tested\, it is a single finger stick\, with results in 10 minutes.</p>\n\n<p>For those who need a confirmation test\, it&rsquo\;s a simple blood test.<br />\n<br />\nAfter a confirmation of HIV or Hep C\, treatment is completely FREE.<br />\nDID YOU KNOW? The cure rate for Hep C is 98%\, and takes 6 months.<br />\n<br />\nIf you would like more information\, please reach out to Julie Clemons at: j.robinson@brightviewhealth.com or (937)284-0543</p>\n
LOCATION:BrightView Wilmington 485 W. Main St. Wilmington\, OH 45177
UID:e.1583.11700
SEQUENCE:3
DTSTAMP:20260421T142840Z
URL:https://business.wccchamber.com/events/details/free-community-hep-c-hiv-clinic-11700
END:VEVENT

END:VCALENDAR
