BEGIN:VCALENDAR
VERSION:2.0
PRODID:-//ChamberMaster//Event Calendar 2.0//EN
METHOD:PUBLISH
X-PUBLISHED-TTL:P3D
REFRESH-INTERVAL:P3D
CALSCALE:GREGORIAN
BEGIN:VEVENT
DTSTART:20220302T170000Z
DTEND:20220302T180000Z
X-MICROSOFT-CDO-ALLDAYEVENT:FALSE
SUMMARY:Free Webinar: OSHA ENFORCEMENT UPDATE
DESCRIPTION:Date: Wednesday\, March 2nd\, 2022\n\nTime: 12PM   1PM\n\nLocation: Zoom! All HFC meetings are free and open to all\, but registration is required - REGISTER HERE\n\nAccess: Upon registration\, you will receive access to the virtual meeting\n\n\n\nPresentation: OSHA Enforcement Update\n\n\n\nThis presentation will cover:\n\n- Cover OSHA inspection statistics and results\n\n- Review recent significant OSHA enforcement actions\n\n- Explore results from a study of OSHA fatality inspections\n\n- Present OSHA's enforcement plans and initiatives for the upcoming year\n\n\n\n \n\nSpeaker: Howard B. Eberts\; Area Director\, U.S. Department of Labor / OSHA\, Cleveland Area Office\n\n\n\nMr. Eberts has worked for OSHA since 1988 when he started in the Columbus Area Office as an Industrial Hygienist.  He began his management career with OSHA when he moved to Chicago in 2001 and worked in the Chicago Regional Office. Since 2011\, he has been the Area Director of the Cleveland Area Office where he currently manages the OSHA enforcement office with 27 people\, including 19 Compliance Officers.
X-ALT-DESC;FMTTYPE=text/html:<font size="4" style="font-family: &quot\;Open Sans&quot\;\, arial\, sans-serif\; color: rgb(32\, 32\, 32)\;"><strong>Date:</strong>&nbsp\;Wednesday\, March 2nd\, 2022</font><br style="color: rgb(119\, 119\, 119)\; font-family: &quot\;Open Sans&quot\;\, arial\, sans-serif\;" />\n<font size="4" style="font-family: &quot\;Open Sans&quot\;\, arial\, sans-serif\; color: rgb(32\, 32\, 32)\;"><strong>Time:</strong>&nbsp\;12PM &ndash\; 1PM</font><br style="color: rgb(119\, 119\, 119)\; font-family: &quot\;Open Sans&quot\;\, arial\, sans-serif\;" />\n<font size="4" style="font-family: &quot\;Open Sans&quot\;\, arial\, sans-serif\; color: rgb(32\, 32\, 32)\;"><strong>Location:</strong>&nbsp\;Zoom! All HFC meetings are free and open to all\, but registration is required -&nbsp\;<a href="https://docs.google.com/forms/d/e/1FAIpQLSckOiFIhkzX0o1OVQlhcoVVh0StO8B8zxeb8MzfZvaXv3zrkA/viewform" style="text-decoration-line: none\; color: rgb(3\, 112\, 234)\;" target="_blank">REGISTER HERE</a></font><br style="color: rgb(119\, 119\, 119)\; font-family: &quot\;Open Sans&quot\;\, arial\, sans-serif\;" />\n<font size="4" style="font-family: &quot\;Open Sans&quot\;\, arial\, sans-serif\; color: rgb(32\, 32\, 32)\;"><strong>Access:</strong>&nbsp\;Upon registration\, you will receive access to the virtual meeting</font><br style="color: rgb(119\, 119\, 119)\; font-family: &quot\;Open Sans&quot\;\, arial\, sans-serif\;" />\n<br style="color: rgb(119\, 119\, 119)\; font-family: &quot\;Open Sans&quot\;\, arial\, sans-serif\;" />\n<strong style="font-family: &quot\;Open Sans&quot\;\, arial\, sans-serif\; color: rgb(32\, 32\, 32)\;"><font size="4">Presentation:&nbsp\;OSHA Enforcement Update</font></strong><br style="color: rgb(119\, 119\, 119)\; font-family: &quot\;Open Sans&quot\;\, arial\, sans-serif\;" />\n<br style="color: rgb(119\, 119\, 119)\; font-family: &quot\;Open Sans&quot\;\, arial\, sans-serif\;" />\n<font color="#000000" size="4" style="font-family: &quot\;Open Sans&quot\;\, arial\, sans-serif\;">This presentation&nbsp\;will cover:<br />\n- Cover OSHA inspection statistics and results<br />\n- Review recent significant OSHA enforcement actions<br />\n- Explore results from a study of OSHA fatality inspections<br />\n- Present OSHA&rsquo\;s enforcement plans and initiatives for the upcoming year<br />\n<br />\n&nbsp\;<br />\n<strong>Speaker:&nbsp\;Howard B. Eberts\; Area Director\, U.S. Department of Labor / OSHA\, Cleveland Area Office</strong><br />\n<br />\nMr. Eberts has worked for OSHA since 1988 when he started in the Columbus Area Office as an Industrial Hygienist.&nbsp\;&nbsp\;He began his management career with OSHA when he moved to Chicago in 2001 and worked in the Chicago Regional Office.&nbsp\;Since 2011\, he has been the Area Director of the Cleveland Area Office where he currently manages the OSHA enforcement office with 27 people\, including 19 Compliance Officers.</font>
LOCATION:Zoom! All HFC meetings are free and open to all\, but registration is required - REGISTER HERE
UID:e.1583.11713
SEQUENCE:3
DTSTAMP:20260421T160311Z
URL:https://business.wccchamber.com/events/details/free-webinar-osha-enforcement-update-11713
END:VEVENT

END:VCALENDAR
