BEGIN:VCALENDAR
VERSION:2.0
PRODID:-//ChamberMaster//Event Calendar 2.0//EN
METHOD:PUBLISH
X-PUBLISHED-TTL:P3D
REFRESH-INTERVAL:P3D
CALSCALE:GREGORIAN
BEGIN:VEVENT
DTSTART:20220305T150000Z
DTEND:20220305T220000Z
X-MICROSOFT-CDO-ALLDAYEVENT:FALSE
SUMMARY:Gardening with Native Plants
DESCRIPTION:Visit the Nature Center any time between 10 to 5 to learn to learn about native plants and their importance to pollinators.  Get help designing your garden and choosing the best plants for your space.  Learn how to attract more butterflies and hummingbirds to your garden.  Find out why bumblebees are necessary for a home garden.  Take home seeds!
X-ALT-DESC;FMTTYPE=text/html:Visit the Nature Center any time between 10 to 5 to learn to learn about native plants and their importance to pollinators.&nbsp\; Get help designing your garden and choosing the best plants for your space.&nbsp\; Learn how to attract more butterflies and hummingbirds to your garden.&nbsp\; Find out why bumblebees are necessary for a home garden.&nbsp\; Take home seeds!
LOCATION:Cowan Lake State Park 1750 Osborn Rd. Wilmington\, OH 45177
UID:e.1583.11715
SEQUENCE:3
DTSTAMP:20260421T142642Z
URL:https://business.wccchamber.com/events/details/gardening-with-native-plants-11715
END:VEVENT

END:VCALENDAR
