BEGIN:VCALENDAR
VERSION:2.0
PRODID:-//ChamberMaster//Event Calendar 2.0//EN
METHOD:PUBLISH
X-PUBLISHED-TTL:P3D
REFRESH-INTERVAL:P3D
CALSCALE:GREGORIAN
BEGIN:VEVENT
DTSTART:20260416T190000Z
DTEND:20260827T220000Z
X-MICROSOFT-CDO-ALLDAYEVENT:FALSE
SUMMARY:Happy Hour at Ralph’s American Grill every Sunday to Thursday
DESCRIPTION:Introducing Happy Hour at Ralph's American Grill! You asked and we listened. We're excited to introduce our new Happy Hour\, available Sunday through Thursday from 3pm-6pm. Enjoy a selection of favorites at exceptional value\, including:   Half-price appetizers   Half-price salads   Half off 16oz draft beers   Half-priced wine (6oz and 9oz pours)   $6 "You Call It" cocktails featuring Buffalo Trace and Wheatley Vodka Whether you're winding down after work or gathering with friends\, our new Happy Hour offers the perfect opportunity to relax and enjoy Ralph's American Grill.
X-ALT-DESC;FMTTYPE=text/html:Introducing Happy Hour at Ralph&rsquo\;s American Grill! You asked and we listened. We&rsquo\;re excited to introduce our new Happy Hour\, available Sunday through Thursday from 3pm-6pm. Enjoy a selection of favorites at exceptional value\, including: &middot\; Half-price appetizers &middot\; Half-price salads &middot\; Half off 16oz draft beers &middot\; Half-priced wine (6oz and 9oz pours) &middot\; $6 &ldquo\;You Call It&rdquo\; cocktails featuring Buffalo Trace and Wheatley Vodka Whether you&rsquo\;re winding down after work or gathering with friends\, our new Happy Hour offers the perfect opportunity to relax and enjoy Ralph&rsquo\;s American Grill.
LOCATION:Ralph's American Grill\, 123 Gano Rd\, Wilmington\, Ohio 45177
UID:e.1583.20535
SEQUENCE:3
DTSTAMP:20260420T225723Z
URL:https://business.wccchamber.com/events/details/happy-hour-at-ralph-s-american-grill-every-sunday-to-thursday-20535
END:VEVENT

END:VCALENDAR
