BEGIN:VCALENDAR
VERSION:2.0
PRODID:-//ChamberMaster//Event Calendar 2.0//EN
METHOD:PUBLISH
X-PUBLISHED-TTL:P3D
REFRESH-INTERVAL:P3D
CALSCALE:GREGORIAN
BEGIN:VEVENT
DTSTART:20220326T140000Z
DTEND:20220326T210000Z
X-MICROSOFT-CDO-ALLDAYEVENT:FALSE
SUMMARY:Herpetology Day
DESCRIPTION:Visit the Nature Center between 10 and 5 to learn about Ohio's native reptiles and amphibians.  Learn their hunting adaptations and what habitat you can observe them in.  Learn how you can help protect the turtles\, salamanders\, snakes and frogs!  Interact with our animal ambassadors\, spotted salamander\, woodland box turtle\, grey rat snake and everyone's favorite corn snake\, Cornellia!
X-ALT-DESC;FMTTYPE=text/html:Visit the Nature Center between 10 and 5 to learn about Ohio&#39\;s native reptiles and amphibians.&nbsp\; Learn their hunting adaptations and what habitat you can observe them in.&nbsp\; Learn how you can help protect the turtles\, salamanders\, snakes and frogs!&nbsp\; Interact with our animal ambassadors\, spotted salamander\, woodland box turtle\, grey rat snake and everyone&#39\;s favorite corn snake\, Cornellia!
LOCATION:Cowan Lake State Park 1750 Osborn Rd. Wilmington\, OH 45177
UID:e.1583.11718
SEQUENCE:3
DTSTAMP:20260421T142630Z
URL:https://business.wccchamber.com/events/details/herpetology-day-11718
END:VEVENT

END:VCALENDAR
