BEGIN:VCALENDAR
VERSION:2.0
PRODID:-//ChamberMaster//Event Calendar 2.0//EN
METHOD:PUBLISH
X-PUBLISHED-TTL:P3D
REFRESH-INTERVAL:P3D
CALSCALE:GREGORIAN
BEGIN:VEVENT
DTSTART:20260420T143000Z
DTEND:20260901T010000Z
X-MICROSOFT-CDO-ALLDAYEVENT:FALSE
SUMMARY:Kids Eat Free Every Monday at Ralph’s American Grill
DESCRIPTION:Did you know that kids 12 & under eat FREE at Ralph's American Grill every Monday? With the purchase of an adult entree\, receive up to two complimentary kids meals from our kids menu   perfect for treating your "little truckers" to a meal they'll love. Be sure to complete the experience with one of our signature milkshakes\, featuring a variety of flavors and customizable add-ins.
X-ALT-DESC;FMTTYPE=text/html:Did you know that kids 12 &amp\; under eat FREE at Ralph&rsquo\;s American Grill every Monday? With the purchase of an adult entree\, receive up to two complimentary kids meals from our kids menu &mdash\; perfect for treating your &ldquo\;little truckers&rdquo\; to a meal they&rsquo\;ll love. Be sure to complete the experience with one of our signature milkshakes\, featuring a variety of flavors and customizable add-ins.
LOCATION:Ralph's American Grill\, 123 Gano Rd\, Wilmington\, Ohio 45177
UID:e.1583.20533
SEQUENCE:3
DTSTAMP:20260420T224006Z
URL:https://business.wccchamber.com/events/details/kids-eat-free-every-monday-at-ralph-s-american-grill-20533
END:VEVENT

END:VCALENDAR
