BEGIN:VCALENDAR
VERSION:2.0
PRODID:-//ChamberMaster//Event Calendar 2.0//EN
METHOD:PUBLISH
X-PUBLISHED-TTL:P3D
REFRESH-INTERVAL:P3D
CALSCALE:GREGORIAN
BEGIN:VEVENT
DTSTART:20260421T230000Z
DTEND:20260603T010000Z
X-MICROSOFT-CDO-ALLDAYEVENT:FALSE
SUMMARY:Last Call Family Feud Nights at Ralph’s American Grill
DESCRIPTION:Join us in partnership with Last Call Trivia every Tuesday\, from 7pm - 9pm\, for a high-energy night of Feud\, where the goal is simple: guess the most popular answers on the board! Bring your crew to Ralph's American Grill\, located within Roberts Centre in Wilmington. Expect an evening of fun\, fast-paced\, survey-style rounds - perfect for beginners or experienced trivia players. At Ralph's you'll find great food\, drinks and an even better vibe. And did we mention prizes for the top 3 places? Last Call Trivia will take place every Tuesday evening from April 7 through June 2\, 2026.
X-ALT-DESC;FMTTYPE=text/html:Join us in partnership with Last Call Trivia every Tuesday\, from 7pm - 9pm\, for a high-energy night of Feud\, where the goal is simple: guess the most popular answers on the board! Bring your crew to Ralph&#39\;s American Grill\, located within Roberts Centre in Wilmington. Expect an evening of fun\, fast-paced\, survey-style rounds - perfect for beginners or experienced trivia players. At Ralph&rsquo\;s you&rsquo\;ll find great food\, drinks and an even better vibe. And did we mention prizes for the top 3 places? Last Call Trivia will take place every Tuesday evening from April 7 through June 2\, 2026.
LOCATION:Ralph's American Grill\, 123 Gano Rd\, Wilmington\, Ohio 45177
UID:e.1583.20531
SEQUENCE:3
DTSTAMP:20260424T082844Z
URL:https://business.wccchamber.com/events/details/last-call-family-feud-nights-at-ralph-s-american-grill-20531
END:VEVENT

END:VCALENDAR
