BEGIN:VCALENDAR
VERSION:2.0
PRODID:-//ChamberMaster//Event Calendar 2.0//EN
METHOD:PUBLISH
X-PUBLISHED-TTL:P3D
REFRESH-INTERVAL:P3D
CALSCALE:GREGORIAN
BEGIN:VEVENT
DTSTART:20220113T223000Z
DTEND:20220113T233000Z
X-MICROSOFT-CDO-ALLDAYEVENT:FALSE
SUMMARY:Leadership Clinton Annual Meeting
DESCRIPTION:The Clinton County Leadership Institute will hold its 35th Annual Meeting on Thursday January 13\, 2022 5:30pm at 2333 Rombach Ave Wilmington\, Ohio. Agenda items include election of the Board of Directors. Those able to vote are those who made a financial or in-kind contribution to the institute since the Annual Meeting of 2021. For further information please call 937-382-7120 or email us ccli.oh@gmail.com
X-ALT-DESC;FMTTYPE=text/html:<span data-sheets-userformat="{&quot\;2&quot\;:513\,&quot\;3&quot\;:{&quot\;1&quot\;:0}\,&quot\;12&quot\;:0}" data-sheets-value="{&quot\;1&quot\;:2\,&quot\;2&quot\;:&quot\;The Clinton County Leadership Institute will hold its 35th Annual Meeting on Thursday January 13\, 2022 5:30pm at 2333 Rombach Ave Wilmington\, Ohio. Agenda items include election of the Board of Directors. Those able to vote are those who made a financial or in-kind contribution to the institute since the Annual Meeting of 2021. For further information please call 937-382-7120 or email us ccli.oh@gmail.com&quot\;}" style="color: rgb(0\, 0\, 0)\; font-size: 10pt\; font-family: Arial\;">The Clinton County Leadership Institute will hold its 35th Annual Meeting on Thursday January 13\, 2022 5:30pm at 2333 Rombach Ave Wilmington\, Ohio. Agenda items include election of the Board of Directors. Those able to vote are those who made a financial or in-kind contribution to the institute since the Annual Meeting of 2021. For further information please call 937-382-7120 or email us ccli.oh@gmail.com</span>
LOCATION:SFM Insurance Building\, 2333 Rombach Ave Wilmington\, Ohio 45177
UID:e.1583.11564
SEQUENCE:3
DTSTAMP:20260421T112349Z
URL:https://business.wccchamber.com/events/details/leadership-clinton-annual-meeting-11564
END:VEVENT

END:VCALENDAR
