BEGIN:VCALENDAR
VERSION:2.0
PRODID:-//ChamberMaster//Event Calendar 2.0//EN
METHOD:PUBLISH
X-PUBLISHED-TTL:P3D
REFRESH-INTERVAL:P3D
CALSCALE:GREGORIAN
BEGIN:VEVENT
DTSTART:20220302T160000Z
DTEND:20220413T170000Z
X-MICROSOFT-CDO-ALLDAYEVENT:FALSE
SUMMARY:Lenton Luncheons at the Wilmington UMC
DESCRIPTION:The Wilmington United Methodist Church invites the community to their Lenten Luncheons   every Wednesday through April 13\, from 11 a.m. to 1 p.m. Eat-in\, delivery in Wilmington or carry-out.\n\n\n\nCall 937-382-1465 and ask for kitchen to reserve your meal! Donation is $8. \n\n \n\nMENU *Menu subject to change.*\n\n \n\nMarch 2: Salmon loaf or chopped sirloin \n\nMarch 9: Chicken and noodles \n\nMarch 16: Glazed pork loin \n\nMarch 23: Roast turkey and stuffing\n\nMarch 30: Roast beef\n\n \n\nWhen Wilmington City Schools are cancelled due to inclement weather\, Lenten Luncheons will also be cancelled.
X-ALT-DESC;FMTTYPE=text/html:<p>The Wilmington United Methodist Church invites the community to their Lenten Luncheons&nbsp\;&ndash\; every Wednesday through April 13\, from 11 a.m. to 1 p.m. Eat-in\, delivery in Wilmington or carry-out.<br />\n<br />\nCall 937-382-1465 and ask for kitchen to reserve your meal! Donation is $8.&nbsp\;<br />\n&nbsp\;<br />\nMENU *Menu subject to change.*<br />\n&nbsp\;<br />\nMarch 2: Salmon loaf or chopped sirloin&nbsp\;<br />\nMarch 9: Chicken and noodles&nbsp\;<br />\nMarch 16: Glazed pork loin&nbsp\;<br />\nMarch 23: Roast turkey and stuffing<br />\nMarch 30: Roast beef</p>\n\n<p>&nbsp\;<br />\n<em>When Wilmington City Schools are cancelled due to inclement weather\, Lenten Luncheons will also be cancelled.</em></p>\n
LOCATION:Wilmington United Methodist Church\, 50 East Locust Street\, Wilmington\, OH 45177
UID:e.1583.11723
SEQUENCE:3
DTSTAMP:20260421T160715Z
URL:https://business.wccchamber.com/events/details/lenton-luncheons-at-the-wilmington-umc-11723
END:VEVENT

END:VCALENDAR
