BEGIN:VCALENDAR
VERSION:2.0
PRODID:-//ChamberMaster//Event Calendar 2.0//EN
METHOD:PUBLISH
X-PUBLISHED-TTL:P3D
REFRESH-INTERVAL:P3D
CALSCALE:GREGORIAN
BEGIN:VEVENT
DTSTART:20220319T180000Z
DTEND:20220319T200000Z
X-MICROSOFT-CDO-ALLDAYEVENT:FALSE
SUMMARY:Lichens and Leprechauns
DESCRIPTION:Meet Naturalist Mandy at the Main Office parking lot to hike Old Field Trail.  Hikers will be looking for and learning about lichens!  Educational materials from Division of Wildlife will be on hand to help you learn.  Field lenses\, magnifying glasses and cell phone camera magnifiers will be available for you to borrow to get better looks at these small organisms.  We will hike in the rain and mud so please dress for the weather.  Hiking stick and water are recommended.  Hike will cancel for extreme weather.  The Nature Center will be open before and after the hike!  Email amanda.wolski@dnr.ohio.gov for more  information!
X-ALT-DESC;FMTTYPE=text/html:Meet Naturalist Mandy at the Main Office parking lot to hike Old Field Trail.&nbsp\; Hikers will be looking for and learning about lichens!&nbsp\; Educational materials from Division of Wildlife will be on hand to help you learn.&nbsp\; Field lenses\, magnifying glasses and cell phone camera magnifiers will be available for you to borrow to get better looks at these small organisms.&nbsp\; We will hike in the rain and mud so please dress for the weather.&nbsp\; Hiking stick and water are recommended.&nbsp\; Hike will cancel for extreme weather.&nbsp\; The Nature Center will be open before and after the hike!&nbsp\; Email amanda.wolski@dnr.ohio.gov for more&nbsp\; information!
LOCATION:Cowan Lake State Park 1750 Osborn Rd. Wilmington\, OH 45177
UID:e.1583.11717
SEQUENCE:3
DTSTAMP:20260421T142631Z
URL:https://business.wccchamber.com/events/details/lichens-and-leprechauns-11717
END:VEVENT

END:VCALENDAR
