BEGIN:VCALENDAR
VERSION:2.0
PRODID:-//ChamberMaster//Event Calendar 2.0//EN
METHOD:PUBLISH
X-PUBLISHED-TTL:P3D
REFRESH-INTERVAL:P3D
CALSCALE:GREGORIAN
BEGIN:VEVENT
DTSTART:20260422T000000Z
DTEND:20260603T003000Z
X-MICROSOFT-CDO-ALLDAYEVENT:FALSE
SUMMARY:Queen of Hearts Drawings at Ralph’s American Grill
DESCRIPTION:Think you've got the luck? Join us EVERY Tuesday at 8pm for our Queen of Hearts drawing at Ralph's American Grill! How does it work? The Jackpot prize grows every week until a winner is drawn. Winners present on-site during the competition earn even more from the prize pool! Didn't win this week? Even if a winner is selected\, 30% or more of the prize pool carries over to next week's game. Grab a drink\, grab a seat and take your shot at finding the Queen!
X-ALT-DESC;FMTTYPE=text/html:Think you&rsquo\;ve got the luck? Join us EVERY Tuesday at 8pm for our Queen of Hearts drawing at Ralph&rsquo\;s American Grill! How does it work? The Jackpot prize grows every week until a winner is drawn. Winners present on-site during the competition earn even more from the prize pool! Didn&rsquo\;t win this week? Even if a winner is selected\, 30% or more of the prize pool carries over to next week&rsquo\;s game. Grab a drink\, grab a seat and take your shot at finding the Queen!
LOCATION:Ralph's American Grill\, 123 Gano Rd\, Wilmington\, Ohio 45177
UID:e.1583.20532
SEQUENCE:3
DTSTAMP:20260422T090240Z
URL:https://business.wccchamber.com/events/details/queen-of-hearts-drawings-at-ralph-s-american-grill-20532
END:VEVENT

END:VCALENDAR
