BEGIN:VCALENDAR
VERSION:2.0
PRODID:-//ChamberMaster//Event Calendar 2.0//EN
METHOD:PUBLISH
X-PUBLISHED-TTL:P3D
REFRESH-INTERVAL:P3D
CALSCALE:GREGORIAN
BEGIN:VEVENT
DTSTART:20220204T210000Z
DTEND:20220204T211500Z
X-MICROSOFT-CDO-ALLDAYEVENT:FALSE
SUMMARY:Raptor Feeding - Cowan Lake State Park Nature Center
DESCRIPTION:Meet at the Nature Center to learn about the resident raptors\, their wild diets\, eating adaptations and more.
X-ALT-DESC;FMTTYPE=text/html:Meet at the Nature Center to learn about the resident raptors\, their wild diets\, eating adaptations and more.
LOCATION:1750 Osborn Rd. Wilmington\, OH 45177
UID:e.1583.11552
SEQUENCE:3
DTSTAMP:20260421T130430Z
URL:https://business.wccchamber.com/events/details/raptor-feeding-cowan-lake-state-park-nature-center-02-04-2022-11552
END:VEVENT

END:VCALENDAR
