BEGIN:VCALENDAR
VERSION:2.0
PRODID:-//ChamberMaster//Event Calendar 2.0//EN
METHOD:PUBLISH
X-PUBLISHED-TTL:P3D
REFRESH-INTERVAL:P3D
CALSCALE:GREGORIAN
BEGIN:VEVENT
DTSTART:20220209T150000Z
DTEND:20220209T170000Z
X-MICROSOFT-CDO-ALLDAYEVENT:FALSE
SUMMARY:"Sip & Learn" with Evermore Financial Services
DESCRIPTION:Join the Wilmington-Clinton County Chamber of Commerce for another special "Sip & Learn" version of our weekly "Coffee with Colleagues" on Wednesday\, February 9th\, from 10AM to Noon! We'll be meeting at Kairos Coffee where you can enjoy coffee (it's on us!)\, check out their amazing new bakery area (opening soon!!)\, and mingle with the Chamber and fellow members of the business community! Kairos is located at 1593 Rombach Avenue\, Wilmington\, OH. All are welcome to attend this "Sip & Learn" but RSVPS are highly encouraged by February 7th via email to info@wccchamber.com or call/text Dessie Rogers at 937-382-2737. \n\n\n\nThis special event will also feature a 15-minute presentation (beginning at 11AM) from Chamber member\, Evermore Financial Services. Evermore Financial Services is an accounting firm who specializes in cash flow management for small businesses with a goal of helping all types of companies profit.  This short presentation will give a snapshot overview of their longer "Profit First" course in order to show how it might benefit the success of your company.\n\n\n\nThe one-on-one\, 12 session "Profit First" course features topics like: Initial assessment on business\, Cash flow management\, Expense analysis\, Changing mindset about money\, Target margin\, Rollout plan\, Setting realistic goals\, Find more revenue\, Possible avenues of income\, How to save money on taxes\, and more!  \n\n\n\nLearn more about Evermore Financial Services\, their resources\, and the "Profit First" course by contacting them at: https://evermorefs.com or (513) 516-0582.
X-ALT-DESC;FMTTYPE=text/html:<p>Join the Wilmington-Clinton County Chamber of Commerce for another special &ldquo\;Sip &amp\; Learn&rdquo\; version of our weekly &ldquo\;Coffee with Colleagues&rdquo\; on Wednesday\, February 9th\, from 10AM to Noon! We&rsquo\;ll be meeting at Kairos Coffee&nbsp\;where you can enjoy coffee (it&rsquo\;s on us!)\, check out their amazing new bakery area (opening soon!!)\, and mingle with the Chamber and fellow members of the business community! Kairos&nbsp\;is located at 1593 Rombach Avenue\, Wilmington\, OH.&nbsp\;All are welcome to attend this &ldquo\;Sip &amp\; Learn&rdquo\; but RSVPS are highly encouraged by February 7th via email to&nbsp\;<a href="mailto:info@wccchamber.com" target="_blank">info@wccchamber.com</a>&nbsp\;or call/text Dessie Rogers at 937-382-2737.&nbsp\;</p>\n\n<p><br />\nThis special event will also feature a 15-minute presentation (beginning at 11AM) from Chamber member\,&nbsp\;<a data-saferedirecturl="https://www.google.com/url?q=https://evermorefs.com/&amp\;source=gmail&amp\;ust=1634652834000000&amp\;usg=AFQjCNFAei68NvXsdcFMahztfCskMhX-Xw" href="https://evermorefs.com/" target="_blank">Evermore Financial Services</a>. Evermore Financial Services is an accounting firm who specializes in cash flow management for small&nbsp\;businesses with a goal of helping all types of companies profit.&nbsp\; This short presentation will give a snapshot overview of their longer &ldquo\;Profit First&rdquo\; course in order to show how it might benefit the success of your company.<br />\n<br />\nThe one-on-one\, 12 session &ldquo\;Profit First&rdquo\; course features topics like: Initial assessment on business\, Cash flow management\, Expense analysis\, Changing mindset about money\, Target margin\, Rollout plan\, Setting realistic goals\, Find more revenue\, Possible avenues of income\, How to save money on taxes\, and more!&nbsp\;&nbsp\;<br />\n<br />\nLearn more about Evermore Financial Services\, their resources\, and the &quot\;Profit First&quot\; course by contacting them at:&nbsp\;<a data-saferedirecturl="https://www.google.com/url?q=https://evermorefs.com&amp\;source=gmail&amp\;ust=1634652834000000&amp\;usg=AFQjCNEvjWNUhXZroHg-GPJXM23N5JRI8Q" href="https://evermorefs.com/" target="_blank">https://evermorefs.com</a>&nbsp\;or&nbsp\;(513) 516-0582.&nbsp\;</p>\n
LOCATION:Kairos Coffee\, 1593 Rombach Avenue\, Wilmington\, OH 45177
UID:e.1583.11567
SEQUENCE:3
DTSTAMP:20260421T095324Z
URL:https://business.wccchamber.com/events/details/sip-learn-with-evermore-financial-services-11567
END:VEVENT

END:VCALENDAR
