BEGIN:VCALENDAR
VERSION:2.0
PRODID:-//ChamberMaster//Event Calendar 2.0//EN
METHOD:PUBLISH
X-PUBLISHED-TTL:P3D
REFRESH-INTERVAL:P3D
CALSCALE:GREGORIAN
BEGIN:VEVENT
DTSTART:20220311T160000Z
DTEND:20220311T180000Z
X-MICROSOFT-CDO-ALLDAYEVENT:FALSE
SUMMARY:Soup to Go for the CC Homeless Shelter
DESCRIPTION:The Clinton County Homeless Shelter presents "Soup To Go" on Friday\, March 11th\, from 11AM to 1PM. Chicken Noodle Soup or Chili will be available at this drive-though event located at 390 West Main Street\, Wilmington. \n\n\n\nCall ahead orders may be placed by NO later than Noon on Friday\, March 4th. Contact us at 937-382-7058. \n\n\n\nDonations accepted. All proceeds directly benefit the Shelter.
X-ALT-DESC;FMTTYPE=text/html:The Clinton County Homeless Shelter presents &quot\;Soup To Go&quot\; on Friday\, March 11th\, from 11AM to 1PM. Chicken Noodle Soup or Chili will be available at this drive-though event located at 390 West Main Street\, Wilmington.&nbsp\;<br />\n<br />\nCall ahead orders may be placed by NO later than Noon on Friday\, March 4th. Contact us at 937-382-7058.&nbsp\;<br />\n<br />\nDonations accepted. All proceeds directly benefit the Shelter.&nbsp\;
LOCATION:390 West Main Street\, Wilmington
UID:e.1583.11720
SEQUENCE:3
DTSTAMP:20260421T160910Z
URL:https://business.wccchamber.com/events/details/soup-to-go-for-the-cc-homeless-shelter-11720
END:VEVENT

END:VCALENDAR
