BEGIN:VCALENDAR
VERSION:2.0
PRODID:-//ChamberMaster//Event Calendar 2.0//EN
METHOD:PUBLISH
X-PUBLISHED-TTL:P3D
REFRESH-INTERVAL:P3D
CALSCALE:GREGORIAN
BEGIN:VEVENT
DTSTART:20220319T170000Z
DTEND:20220319T200000Z
X-MICROSOFT-CDO-ALLDAYEVENT:FALSE
SUMMARY:Spring Pop-up Shop
DESCRIPTION:This is our very first pop-up shop! We will have multiple vendors including tie dye\, vintage\, macrame\, art\, jewelry\, and more! Come shop and celebrate spring! Watch for more details at: https://www.facebook.com/carmelcollectiveohio
X-ALT-DESC;FMTTYPE=text/html:This is our very first pop-up shop! We will have multiple vendors including tie dye\, vintage\, macrame\, art\, jewelry\, and more! Come shop and celebrate spring! Watch for more details at:&nbsp\;<a href="https://www.facebook.com/carmelcollectiveohio">https://www.facebook.com/carmelcollectiveohio</a>
LOCATION:Carmel Collective\, 33 N South Street\, Wilmington\, OH 45177
UID:e.1583.11728
SEQUENCE:3
DTSTAMP:20260421T142533Z
URL:https://business.wccchamber.com/events/details/spring-pop-up-shop-11728
END:VEVENT

END:VCALENDAR
