BEGIN:VCALENDAR
VERSION:2.0
PRODID:-//ChamberMaster//Event Calendar 2.0//EN
METHOD:PUBLISH
X-PUBLISHED-TTL:P3D
REFRESH-INTERVAL:P3D
CALSCALE:GREGORIAN
BEGIN:VEVENT
DTSTART:20220212T190000Z
DTEND:20220212T210000Z
X-MICROSOFT-CDO-ALLDAYEVENT:FALSE
SUMMARY:Sweetheart Hike
DESCRIPTION:Meet at the Nature Center at 2:00 PM for a 1.5 mile hike.  Bring your favorite sweetheart to share the beauty of nature together.  Learn about the breeding habits of the eagles\, beaver and skunks that call Cowan home.  Co-sponsored by Friends Caring for Cowan Lake State Park who will have hot beverages and desserts available.
X-ALT-DESC;FMTTYPE=text/html:<font color="#1d2129" face="helvetica\, arial\, sans-serif"><span style="font-size:14px">Meet at the Nature Center at 2:00 PM for a 1.5 mile hike.&nbsp\; Bring your favorite sweetheart to share the beauty of nature together.&nbsp\; Learn about the breeding habits of the eagles\, beaver and skunks that call Cowan home.&nbsp\; Co-sponsored by</span></font><span style="background-color:rgb(255\, 255\, 255)\; color:rgb(29\, 33\, 41)\; font-family:helvetica\,arial\,sans-serif\; font-size:14px">&nbsp\;</span><a href="https://www.facebook.com/friendscaringforcowanlake/" style="color: rgb(56\, 88\, 152)\; cursor: pointer\; text-decoration-line: none\; font-family: Helvetica\, Arial\, sans-serif\; font-size: 14px\; white-space: pre-wrap\; background-color: rgb(255\, 255\, 255)\;" target="_blank">Friends Caring for Cowan Lake State Park</a>&nbsp\;who will have hot beverages and desserts available.
LOCATION:Cowan Lake State Park 1750 Osborn Road Wilmington\, OH 45177
UID:e.1583.11703
SEQUENCE:3
DTSTAMP:20260421T125946Z
URL:https://business.wccchamber.com/events/details/sweetheart-hike-02-12-2022-11703
END:VEVENT

END:VCALENDAR
