BEGIN:VCALENDAR
VERSION:2.0
PRODID:-//ChamberMaster//Event Calendar 2.0//EN
METHOD:PUBLISH
X-PUBLISHED-TTL:P3D
REFRESH-INTERVAL:P3D
CALSCALE:GREGORIAN
BEGIN:VEVENT
DTSTART:20220315T210000Z
DTEND:20220315T230000Z
X-MICROSOFT-CDO-ALLDAYEVENT:FALSE
SUMMARY:The Referral Network's Open House & Ribbon Cutting
DESCRIPTION:The Referral Network invites the public to an open house on Tuesday\, March 15th\, from 5PM to 7PM\, at the Loft\, 64 West Main Street\, in downtown Wilmington! The Wilmington-Clinton County Chamber of Commerce will hold a ribbon cutting ceremony at 6PM. \n \n\nThe open house will feature networking and refreshments\, as well as the opportunity to meet members of The Referral Network and learn how they can assist your business or non-profit organization. \n\n\n\nThe mission of The Referral Network is to increase business growth through a structured\, professional referral program while building business relationships. Learn more at: https://www.facebook.com/thereferralnetworkofcentralohio/
X-ALT-DESC;FMTTYPE=text/html:The Referral Network invites the public to an&nbsp\;open&nbsp\;house&nbsp\;on&nbsp\;Tuesday\, March 15th\, from 5PM to 7PM\, at the Loft\, 64 West Main Street\, in downtown Wilmington! The Wilmington-Clinton County&nbsp\;Chamber&nbsp\;of Commerce will hold a&nbsp\;ribbon&nbsp\;cutting&nbsp\;ceremony at&nbsp\;6PM.&nbsp\;\n<div comic="" sans="">&nbsp\;</div>\n\n<div comic="" sans="">The open house will feature networking and refreshments\, as well as the opportunity&nbsp\;to meet members of The Referral Network and&nbsp\;learn how they can assist your business or non-profit organization.&nbsp\;<br />\n<br />\nThe mission of The Referral Network is to increase business growth through a structured\, professional referral program while building business relationships.&nbsp\;Learn more at:&nbsp\;<a href="https://www.facebook.com/thereferralnetworkofcentralohio/">https://www.facebook.com/thereferralnetworkofcentralohio/</a></div>\n\n<div comic="" sans="">&nbsp\;</div>\n\n<div comic="" sans="">&nbsp\;</div>\n
LOCATION:The Loft\, 64 West Main Street\, Wilmington\, Ohio 45177
UID:e.1583.11733
SEQUENCE:3
DTSTAMP:20260421T142921Z
URL:https://business.wccchamber.com/events/details/the-referral-network-s-open-house-ribbon-cutting-11733
END:VEVENT

END:VCALENDAR
