BEGIN:VCALENDAR
VERSION:2.0
PRODID:-//ChamberMaster//Event Calendar 2.0//EN
METHOD:PUBLISH
X-PUBLISHED-TTL:P3D
REFRESH-INTERVAL:P3D
CALSCALE:GREGORIAN
BEGIN:VEVENT
DTSTART:20220105T143000Z
DTEND:20220105T163000Z
X-MICROSOFT-CDO-ALLDAYEVENT:FALSE
SUMMARY:Two-Hour Safety Webinars: Hunter Consulting
DESCRIPTION:Presented by: Gary Hanson of American Safety & Health \n\nWednesday\, January 5\, 2022   Meeting 9:30 a.m.   11:30 a.m.\n\nWhat a Safety Coordinator Needs to Know   Session 2-\n\n\n\nKey Elements\n\n  Ability to Develop a Long-Term Plan and Implement Plan \n\n  Ability to get Employees to buy into the Safety Program \n\n  How to Train Effectively \n\n  Knowledge of Key OSHA Regulations \n  Measuring the Success of the Safety Program
X-ALT-DESC;FMTTYPE=text/html:<p dir="ltr">Presented by: Gary Hanson of American Safety &amp\; Health&nbsp\;</p>\n\n<p dir="ltr">Wednesday\, January 5\, 2022 &ndash\; Meeting 9:30 a.m. &ndash\; 11:30 a.m.<br />\nWhat a Safety Coordinator Needs to Know &ndash\; Session 2-<br />\n<br />\nKey Elements<br />\n&bull\; Ability to Develop a Long-Term Plan and Implement Plan&nbsp\;</p>\n\n<p dir="ltr">&bull\; Ability to get Employees to buy into the Safety Program&nbsp\;</p>\n\n<p dir="ltr">&bull\; How to Train Effectively&nbsp\;</p>\n\n<p dir="ltr">&bull\; Knowledge of Key OSHA Regulations&nbsp\;</p>\n&bull\; Measuring the Success of the Safety Program
LOCATION:
UID:e.1583.11551
SEQUENCE:3
DTSTAMP:20260421T112140Z
URL:https://business.wccchamber.com/events/details/two-hour-safety-webinars-hunter-consulting-11551
END:VEVENT

END:VCALENDAR
