BEGIN:VCALENDAR
VERSION:2.0
PRODID:-//ChamberMaster//Event Calendar 2.0//EN
METHOD:PUBLISH
X-PUBLISHED-TTL:P3D
REFRESH-INTERVAL:P3D
CALSCALE:GREGORIAN
BEGIN:VEVENT
DTSTART:20220203T130000Z
DTEND:20220203T140000Z
X-MICROSOFT-CDO-ALLDAYEVENT:FALSE
SUMMARY:Virtual Economic Network Alliance: Mental Health Recovery Board
DESCRIPTION:Join us for our **VIRTUAL** February 3rd Economic Network Alliance to find out about what's going on in the community\, learn about resources that can help your business get ahead\, and meet other business leaders from across Clinton County.\n\n\n\nShare your thoughts on mental health and addiction services!\n\n\n\nWhat do you see as the most pressing issues affecting staff and personal behavioral health in Clinton County? Join us on February 3rd as staff from the Mental Health Recovery Board Serving Warren & Clinton Counties discuss what's currently happening   and what might be needed   to provide services and programs to help residents find treatment\, recover\, and move forward in their day-to-day lives. Share your thoughts and ideas with the Board's executive director\, Colleen Chamberlain\, and Communications Director\, John Cummings. Your input is vital to helping the Board build helpful services and programs to serve our community.\n\n\n\nAll are welcome to attend\, but REGISTRATION IS REQUIRED for our virtual meetings. You will receive your meeting access details upon registration. \n\n\n\nDATE: February 3rd\, 2022\n\nTIME: 8:00 a.m.\n\nREGISTRATION: Please register HERE to receive the virtual meeting access information\n\n\n\nThe Economic Network Alliance is a partnership of the Wilmington-Clinton County Chamber of Commerce and the Clinton County Regional Planning Commission\,  hosted virtually by the Clinton County Port Authority.
X-ALT-DESC;FMTTYPE=text/html:<span style="color: rgb(80\, 80\, 80)\; font-family: Helvetica\; font-size: 14px\; background-color: rgb(244\, 244\, 244)\;">Join us for our&nbsp\;</span><strong style="color: rgb(80\, 80\, 80)\; font-family: Helvetica\; font-size: 14px\; background-color: rgb(244\, 244\, 244)\;">**VIRTUAL** February 3rd Economic Network Alliance</strong><span style="color: rgb(80\, 80\, 80)\; font-family: Helvetica\; font-size: 14px\; background-color: rgb(244\, 244\, 244)\;">&nbsp\;to find out about what&rsquo\;s going on in the community\, learn about resources that can help your business get ahead\, and meet other business leaders from across Clinton County.</span><br style="color: rgb(80\, 80\, 80)\; font-family: Helvetica\; font-size: 14px\; background-color: rgb(244\, 244\, 244)\;" />\n<br style="color: rgb(80\, 80\, 80)\; font-family: Helvetica\; font-size: 14px\; background-color: rgb(244\, 244\, 244)\;" />\n<em style="color: rgb(80\, 80\, 80)\; font-family: Helvetica\; font-size: 14px\; background-color: rgb(244\, 244\, 244)\;"><strong>Share your thoughts on mental health and addiction services!</strong></em><br style="color: rgb(80\, 80\, 80)\; font-family: Helvetica\; font-size: 14px\; background-color: rgb(244\, 244\, 244)\;" />\n<br style="color: rgb(80\, 80\, 80)\; font-family: Helvetica\; font-size: 14px\; background-color: rgb(244\, 244\, 244)\;" />\n<span style="color: rgb(80\, 80\, 80)\; font-family: Helvetica\; font-size: 14px\; background-color: rgb(244\, 244\, 244)\;">What do you see as the most pressing issues affecting staff and personal behavioral health in Clinton County? Join us on February 3rd as staff from the&nbsp\;</span><strong style="color: rgb(80\, 80\, 80)\; font-family: Helvetica\; font-size: 14px\; background-color: rgb(244\, 244\, 244)\;">Mental Health Recovery Board Serving Warren &amp\; Clinton Counties</strong><span style="color: rgb(80\, 80\, 80)\; font-family: Helvetica\; font-size: 14px\; background-color: rgb(244\, 244\, 244)\;">&nbsp\;discuss what&rsquo\;s currently happening &ndash\; and what might be needed &ndash\; to provide services and programs to help residents find treatment\, recover\, and move forward in their day-to-day lives. Share your thoughts and ideas with the Board&rsquo\;s executive director\, Colleen Chamberlain\, and Communications Director\, John Cummings. Your input is vital to helping the Board build helpful services and programs to serve our community.</span><br style="color: rgb(80\, 80\, 80)\; font-family: Helvetica\; font-size: 14px\; background-color: rgb(244\, 244\, 244)\;" />\n<br style="color: rgb(80\, 80\, 80)\; font-family: Helvetica\; font-size: 14px\; background-color: rgb(244\, 244\, 244)\;" />\n<span style="color: rgb(80\, 80\, 80)\; font-family: Helvetica\; font-size: 14px\; background-color: rgb(244\, 244\, 244)\;">All are welcome to attend\, but&nbsp\;</span><a data-saferedirecturl="https://www.google.com/url?q=https://wccchamber.us2.list-manage.com/track/click?u%3De7de58bd7fecde2bd9d1859fe%26id%3D0699b0d432%26e%3D4b8b3a7d60&amp\;source=gmail&amp\;ust=1643232227348000&amp\;usg=AOvVaw0cBuGWNUYVH31kd9SJnDV2" href="https://wccchamber.us2.list-manage.com/track/click?u=e7de58bd7fecde2bd9d1859fe&amp\;id=0699b0d432&amp\;e=4b8b3a7d60" style="color: rgb(235\, 65\, 2)\; font-family: Helvetica\; font-size: 14px\; background-color: rgb(244\, 244\, 244)\; overflow-wrap: break-word !important\;" target="_blank">REGISTRATION IS REQUIRED</a><span style="color: rgb(80\, 80\, 80)\; font-family: Helvetica\; font-size: 14px\; background-color: rgb(244\, 244\, 244)\;">&nbsp\;for our&nbsp\;virtual&nbsp\;meetings. You will receive your meeting access details upon registration.&nbsp\;</span><br style="color: rgb(80\, 80\, 80)\; font-family: Helvetica\; font-size: 14px\; background-color: rgb(244\, 244\, 244)\;" />\n<br style="color: rgb(80\, 80\, 80)\; font-family: Helvetica\; font-size: 14px\; background-color: rgb(244\, 244\, 244)\;" />\n<strong style="color: rgb(80\, 80\, 80)\; font-family: Helvetica\; font-size: 14px\; background-color: rgb(244\, 244\, 244)\;">DATE:</strong><span style="color: rgb(80\, 80\, 80)\; font-family: Helvetica\; font-size: 14px\; background-color: rgb(244\, 244\, 244)\;">&nbsp\;February 3rd\, 2022</span><br style="color: rgb(80\, 80\, 80)\; font-family: Helvetica\; font-size: 14px\; background-color: rgb(244\, 244\, 244)\;" />\n<strong style="color: rgb(80\, 80\, 80)\; font-family: Helvetica\; font-size: 14px\; background-color: rgb(244\, 244\, 244)\;">TIME:</strong><span style="color: rgb(80\, 80\, 80)\; font-family: Helvetica\; font-size: 14px\; background-color: rgb(244\, 244\, 244)\;">&nbsp\;8:00 a.m.</span><br style="color: rgb(80\, 80\, 80)\; font-family: Helvetica\; font-size: 14px\; background-color: rgb(244\, 244\, 244)\;" />\n<strong style="color: rgb(80\, 80\, 80)\; font-family: Helvetica\; font-size: 14px\; background-color: rgb(244\, 244\, 244)\;">REGISTRATION:&nbsp\;<a data-saferedirecturl="https://www.google.com/url?q=https://wccchamber.us2.list-manage.com/track/click?u%3De7de58bd7fecde2bd9d1859fe%26id%3D5722480695%26e%3D4b8b3a7d60&amp\;source=gmail&amp\;ust=1643232227348000&amp\;usg=AOvVaw261AetZOYV1W4XTfD8iUyR" href="https://wccchamber.us2.list-manage.com/track/click?u=e7de58bd7fecde2bd9d1859fe&amp\;id=5722480695&amp\;e=4b8b3a7d60" style="color: rgb(235\, 65\, 2)\; font-weight: normal\; overflow-wrap: break-word !important\;" target="_blank">Please register HERE to receive the virtual meeting access&nbsp\;information</a></strong><br style="color: rgb(80\, 80\, 80)\; font-family: Helvetica\; font-size: 14px\; background-color: rgb(244\, 244\, 244)\;" />\n<br style="color: rgb(80\, 80\, 80)\; font-family: Helvetica\; font-size: 14px\; background-color: rgb(244\, 244\, 244)\;" />\n<span style="color: rgb(80\, 80\, 80)\; font-family: Helvetica\; font-size: 14px\; background-color: rgb(244\, 244\, 244)\;">The Economic Network Alliance is a partnership of the Wilmington-Clinton County Chamber of Commerce and the Clinton County Regional Planning Commission\,&nbsp\;&nbsp\;hosted virtually by the Clinton County Port Authority.&nbsp\;</span>
LOCATION:
UID:e.1583.11701
SEQUENCE:3
DTSTAMP:20260421T143039Z
URL:https://business.wccchamber.com/events/details/virtual-economic-network-alliance-mental-health-recovery-board-11701
END:VEVENT

END:VCALENDAR
