BEGIN:VCALENDAR
VERSION:2.0
PRODID:-//ChamberMaster//Event Calendar 2.0//EN
METHOD:PUBLISH
X-PUBLISHED-TTL:P3D
REFRESH-INTERVAL:P3D
CALSCALE:GREGORIAN
BEGIN:VEVENT
DTSTART:20220122T140000Z
DTEND:20220122T180000Z
X-MICROSOFT-CDO-ALLDAYEVENT:FALSE
SUMMARY:"When Predatory turns Physical" Women's Self-Protection Workshop
DESCRIPTION:TRIGGER WARNING:  This is part 3 of our series on Predatory Violence. This particular session will involve blunt\, open discussions of the mechanics of sexual assault and how to survive or evade these types of traumatic encounters. There will also be some physical proximity to the instructors for demonstration purposes that could be intimidating or difficult for some. If you are new to our Wasp program and/or do not wish to participate in an open discussion about the issues surrounding these types of assaults\, you may want to consider waiting for our next class.  As always\, we will carefully guide and supervise\, and help you process through what you learn.\n\n\n\nThis month's class covers Predatory Violence. This class focuses on what to do when things become physical. It specifically focuses on the types of physical violence that occur when a predator wants to take something from you:  your resources\, your body\, or your life. It focuses on what to do after avoidance\, escape\, and de-escalation have not worked.\n\nIn every violent encounter\, there is a moment when you realize\, "This is an assault!"   This month's class focuses on what to do from that moment on. The class will be an active participation\, 4-hour\, class that will involve both physical and informational components.\n\nYou may want to write down some of the information\, so it may be a good idea to bring a notebook. You can wear street clothes or what you'd wear to a gym.  We ask that if you are unvaccinated\, you wear a mask.
X-ALT-DESC;FMTTYPE=text/html:<p><span style="color:rgb(0\, 0\, 0)\; font-family:times new roman\; font-size:14px"><em><strong>TRIGGER WARNING:</strong>&nbsp\; This is part 3 of our series on Predatory Violence. This particular session will involve blunt\, open discussions of the mechanics of sexual assault and how to survive or evade these types of traumatic encounters. There will also be some physical proximity to the instructors for demonstration purposes that could be intimidating or difficult for some. If you are new to our Wasp program and/or do not wish to participate in an open discussion about the issues surrounding these types of assaults\, you may want to consider waiting for our next class.&nbsp\; As always\, we will carefully guide and supervise\, and help you process through what you learn.</em></span><br />\n<br />\n<span style="font-size:14px"><span style="color:rgb(0\, 0\, 0)\; font-family:times new roman">This month&rsquo\;s class covers Predatory Violence. This class focuses on what to do when things become physical. It specifically focuses on the types of physical violence that occur when a predator wants to take something from you:&nbsp\; your resources\, your body\, or your life. It focuses on what to do after avoidance\, escape\, and de-escalation have not worked.</span><br />\n<span style="color:rgb(0\, 0\, 0)\; font-family:times new roman">In every violent encounter\, there is a moment when you realize\, &quot\;</span><em>This is an assault!</em><span style="color:rgb(0\, 0\, 0)\; font-family:times new roman">&quot\;&nbsp\; &nbsp\;This month&rsquo\;s class focuses on what to do from&nbsp\;</span><em>that</em><span style="color:rgb(0\, 0\, 0)\; font-family:times new roman">&nbsp\;moment on. The class will be an active participation\, 4-hour\, class that will involve both physical and informational components.<br />\nYou may want to write down some of the information\, so it may be a good idea to bring a notebook. You can wear street clothes or what you&rsquo\;d wear to a gym.&nbsp\; W</span></span><span style="color:rgb(0\, 0\, 0)\; font-family:times new roman\; font-size:14px">e ask that if you are unvaccinated\, you wear a mask.</span></p>\n
LOCATION:Team Torque Martial Arts 1550 W. Main St. Wilmington\, OH 45177
UID:e.1583.11568
SEQUENCE:3
DTSTAMP:20260421T112349Z
URL:https://business.wccchamber.com/events/details/when-predatory-turns-physical-women-s-self-protection-workshop-11568
END:VEVENT

END:VCALENDAR
